BEGIN:VCALENDAR
VERSION:2.0
METHOD:PUBLISH
BEGIN:VEVENT
UID:WILD_APRICOT_EVENT_2783998_SESSION_1
DTSTART:20180126T194500Z
DTEND:20180127T040000Z
SUMMARY:Summer Summit
LOCATION:Meet at Downtown Ferry Terminal (Auckland)
DESCRIPTION:http://researchassociation.co.nz/event-2783998\n\nTime to find those sun hats and get ready for some summer fun! RANZ Social would like to invite you to their summer summit - a day climb up Rangitoto.\n  We'll be kicking off in the New Year and with a climb\, picnic\, and ferry rides\, it's the perfect start. Please spread the word with your colleagues\, it's a great way to get to know and spend some time with others in the industry.\n  Details as below:\n  When: Saturday 27th January\, 2018\n Time: 8:45am-5pm\n Where will we meet: Downtown Ferry Terminal\n Cost: $33 for the Ferry\n Food: Bring some food/snacks/drinks to have at our shared picnic\n  Check for updates on the RANZ Social Facebook Page\n  Further information about Rangitoto Island\n\n  IMPORTANT NOTICE:\n All attendees take part in this event at their own risk.\n We advise that suitable footwear\, clothing\, hats and sunscreen are worn and that individuals bring their own drinking water. \n\n
DTSTAMP:20180125T161200Z
END:VEVENT
END:VCALENDAR
