BEGIN:VCALENDAR
VERSION:2.0
METHOD:PUBLISH
BEGIN:VEVENT
UID:WILD_APRICOT_EVENT_2727791_SESSION_1
DTSTART:20180817T060000Z
DTEND:20180817T060000Z
SUMMARY:RAEAWARDS 2018
LOCATION:Hilton Auckland\, Princes Wharf\, Quay Street\, Auckland
DESCRIPTION:http://researchassociation.co.nz/event-2727791\n\n\n  Celebrate the research\, data and insights industry's greatest achievements at the RAEAWARDS on 17th August\, 2018.\n  Secure your seats now!\nWatch out for further announcements such as entry submission deadlines\, sponsorship packages and event details.\n
DTSTAMP:20180125T161210Z
END:VEVENT
END:VCALENDAR
